BEGIN:VCALENDAR
VERSION:2.0
PRODID:-//Orkney Vintage Club - ECPv6.15.20//NONSGML v1.0//EN
CALSCALE:GREGORIAN
METHOD:PUBLISH
X-WR-CALNAME:Orkney Vintage Club
X-ORIGINAL-URL:https://orkneyvintageclub.co.uk
X-WR-CALDESC:Events for Orkney Vintage Club
REFRESH-INTERVAL;VALUE=DURATION:PT1H
X-Robots-Tag:noindex
X-PUBLISHED-TTL:PT1H
BEGIN:VTIMEZONE
TZID:Europe/London
BEGIN:DAYLIGHT
TZOFFSETFROM:+0000
TZOFFSETTO:+0100
TZNAME:BST
DTSTART:20240331T010000
END:DAYLIGHT
BEGIN:STANDARD
TZOFFSETFROM:+0100
TZOFFSETTO:+0000
TZNAME:GMT
DTSTART:20241027T010000
END:STANDARD
BEGIN:DAYLIGHT
TZOFFSETFROM:+0000
TZOFFSETTO:+0100
TZNAME:BST
DTSTART:20250330T010000
END:DAYLIGHT
BEGIN:STANDARD
TZOFFSETFROM:+0100
TZOFFSETTO:+0000
TZNAME:GMT
DTSTART:20251026T010000
END:STANDARD
BEGIN:DAYLIGHT
TZOFFSETFROM:+0000
TZOFFSETTO:+0100
TZNAME:BST
DTSTART:20260329T010000
END:DAYLIGHT
BEGIN:STANDARD
TZOFFSETFROM:+0100
TZOFFSETTO:+0000
TZNAME:GMT
DTSTART:20261025T010000
END:STANDARD
END:VTIMEZONE
BEGIN:VEVENT
DTSTART;VALUE=DATE:20250712
DTEND;VALUE=DATE:20250714
DTSTAMP:20260419T225234
CREATED:20250507T112328Z
LAST-MODIFIED:20250507T113655Z
UID:1300-1752278400-1752451199@orkneyvintageclub.co.uk
SUMMARY:All New Events - Tractor Run - Latheron Show
DESCRIPTION:The Orkney Vintage Club has been invited to attend the Latheron Show in Caithness which is celebrating their 100 year anniversary!  We are organising a tractor run to go down specially for this. If you are interested and would like to go please get in touch will Steven with the phone number shown below. They are asking for 100 tractors to attend the show that are at least 20 years old .
URL:https://orkneyvintageclub.co.uk/event/__trashed/
LOCATION:Latheron Show – Tractor Run\, West Clyth Farm\, Occumster\, Caithness\, Scotland\, United Kingdom
END:VEVENT
END:VCALENDAR